BEGIN:VCALENDAR
VERSION:2.0
PRODID:spatie/icalendar-generator
DESCRIPTION:Events from Alfred Mission
X-WR-CALDESC:Events from Alfred Mission
REFRESH-INTERVAL;VALUE=DURATION:PT1440M
X-PUBLISHED-TTL:PT1440M
BEGIN:VTIMEZONE
TZID:America/New_York
BEGIN:DAYLIGHT
DTSTART:20250309T020000Z
TZOFFSETFROM:-0500
TZOFFSETTO:-0400
END:DAYLIGHT
BEGIN:STANDARD
DTSTART:20251102T020000Z
TZOFFSETFROM:-0400
TZOFFSETTO:-0500
END:STANDARD
BEGIN:DAYLIGHT
DTSTART:20260308T020000Z
TZOFFSETFROM:-0500
TZOFFSETTO:-0400
END:DAYLIGHT
END:VTIMEZONE
BEGIN:VTIMEZONE
TZID:UTC
BEGIN:STANDARD
DTSTART:20250723T171706Z
TZOFFSETFROM:+0000
TZOFFSETTO:+0000
END:STANDARD
END:VTIMEZONE
BEGIN:VEVENT
UID:53-53
DTSTAMP:20260419T171706Z
SUMMARY:Alfred Mission Harvest Blessings Services
LOCATION:
ORGANIZER;CN=Shirley Gohner:MAILTO:shirleyandjackson@yahoo.com
DTSTART;TZID=America/New_York:20251004T110000
DTEND;TZID=America/New_York:20251004T210000
X-ALT-DESC;FMTTYPE=TEXT/HTML:
CATEGORIES:General
URL;VALUE=URI:https://alfredmission.com/mc-events/alfred-mission-harvest-bl
 essings-services-2/
METHOD:PUBLISH
END:VEVENT
END:VCALENDAR